Workbook

Sheet Osnovni podatki čebelarstva
A1: Čebelarstvo Čebelica
A2: Število čebeljih družin skupaj
A3: Število gospodarnih čebeljih družin (70%) | B3: =0.7*B2 -> 0
A4: Število rezervnih družin (30%) | B4: =0.3*B2 -> 0
A7: MED | B7: PRIDELAVA v kg | C7: MALOPRODAJA | G7: VELEPRODAJA
C8: Odprodana količina | D8: Priporočena cena/kg | E8: Dosežena cena/kg | F8: Vrednost skupaj | G8: Odprodana količina | H8: Dosežena cena/kg | I8: Vrednost skupaj
C9: količina | E9: po ceni | G9: količina | H9: po ceni
A10: Med - cvetlični | F10: =C10*E10 -> 0 | I10: =G10*H10 -> 0
A11: Med - gozdni | F11: =C11*E11 -> 0 | I11: =G11*H11 -> 0
A12: Med - sortni -AKACIJA | F12: =C12*E12 -> 0 | I12: =G12*H12 -> 0
A13: Med - sortni - KOSTANJ | F13: =C13*E13 -> 0 | I13: =G13*H13 -> 0
A14: Med - sortni - HOJA | F14: =C14*E14 -> 0 | I14: =G14*H14 -> 0
A15: Skupaj | B15: =SUM(B10:B14) -> 0 | F15: =SUM(F10:F14) -> 0 | I15: =SUM(I10:I14) -> 0 | J15: =I15+F15 -> 0
A17: CVETNI PRAH - sušen | B17: PRIDELAVA v kg | C17: MALOPRODAJA | G17: VELEPRODAJA
C18: Odprodana količina | D18: Priporočena cena/100 g | E18: Dosežena cena/kg | F18: Vrednost skupaj | G18: Odprodana količina | H18: Dosežena cena/kg | I18: Vrednost skupaj
C19: količina | E19: po ceni | G19: količina | H19: po ceni
A20: Cvetni prah 1 KG | F20: =E20*B20 -> 0 | I20: =G20*H20 -> 0
A21: Cvetni prah 1/2 KG | F21: =E21*B21 -> 0 | I21: =G21*H21 -> 0
A22: Cvetni prah 250 g | F22: =E22*B22 -> 0 | I22: =G22*H22 -> 0
A23: Cvetni prah 100 g | F23: =E23*B23 -> 0 | I23: =G23*H23 -> 0
A24: Skupaj | B24: =SUM(B20:B23) -> 0 | F24: =SUM(F20:F23) -> 0 | I24: =SUM(I20:I23) -> 0 | J24: =I24+F24 -> 0
A26: CVETNI PRAH - svež | B26: PRIDELAVA v kg | C26: MALOPRODAJA | G26: VELEPRODAJA
C27: Odprodana količina | D27: Priporočena cena/kg | E27: Dosežena cena/kg | F27: Vrednost skupaj | G27: Odprodana količina | H27: Dosežena cena/kg | I27: Vrednost skupaj
C28: količina | E28: po ceni | G28: količina | H28: po ceni
A29: Cvetni prah 1 KG | F29: =C29*E29 -> 0 | I29: =H29*G29 -> 0
A30: Cvetni prah 1/2 KG | F30: =C30*E30 -> 0 | I30: =H30*G30 -> 0
A31: Cvetni prah 250 g | F31: =C31*E31 -> 0 | I31: =H31*G31 -> 0
A32: Cvetni prah 100 g | F32: =C32*E32 -> 0 | I32: =H32*G32 -> 0
A33: Skupaj | F33: =SUM(F29:F32) -> 0 | I33: =SUM(I29:I32) -> 0 | J33: =I33+F33 -> 0
A35: CVETNI PRAH - izkopanec | B35: PRIDELAVA v kg | C35: MALOPRODAJA | G35: VELEPRODAJA
C36: Odprodana količina | D36: Priporočena cena/kg | E36: Dosežena cena/kg | F36: Vrednost skupaj | G36: Odprodana količina | H36: Dosežena cena/kg | I36: Vrednost skupaj
C37: količina | E37: po ceni | G37: količina | H37: po ceni
A38: Cvetni prah 1 KG | F38: =C38*E38 -> 0 | I38: =G38*H38 -> 0
A39: Cvetni prah 1/2 KG | F39: =C39*E39 -> 0 | I39: =G39*H39 -> 0
A40: Cvetni prah 250 g | F40: =C40*E40 -> 0 | I40: =G40*H40 -> 0
A41: Cvetni prah 100 g | F41: =C41*E41 -> 0 | I41: =G41*H41 -> 0
A42: Skupaj | F42: =SUM(F38:F41) -> 0 | I42: =SUM(I38:I41) -> 0 | J42: =I42+F42 -> 0
A44: MATIČNI MLEČEK | B44: PRIDELAVA v kg | C44: MALOPRODAJA | G44: VELEPRODAJA
C45: Odprodana količina | D45: Priporočena cena/kg | E45: Dosežena cena/kg | F45: Vrednost skupaj | G45: Odprodana količina | H45: Dosežena cena/kg | I45: Vrednost skupaj
C46: količina | E46: po ceni | G46: količina | H46: po ceni
A47: Matični mleček 30 g | E47: 34 | F47: =C47*E47 -> 0 | I47: =G47*H47 -> 0
A48: Skupaj | F48: =SUM(F47) -> 0 | I48: =SUM(I47) -> 0 | J48: =I48+F48 -> 0
A50: VOSEK | B50: PRIDELAVA v kg | C50: MALOPRODAJA | G50: VELEPRODAJA
C51: Odprodana količina | D51: Priporočena cena/kg | E51: Dosežena cena/kg | F51: Vrednost skupaj | G51: Odprodana količina | H51: Dosežena cena/kg | I51: Vrednost skupaj
C52: količina | E52: po ceni | G52: količina | H52: po ceni
A53: VOSEK | F53: =C53*E53 -> 0 | I53: =G53*H53 -> 0
A54: Skupaj | F54: =SUM(F53) -> 0 | I54: =SUM(I53) -> 0 | J54: =I54+F54 -> 0
A56: PROPOLIS - surov | B56: PRIDELAVA v kg | C56: MALOPRODAJA | G56: VELEPRODAJA
C57: Odprodana količina | D57: Priporočena cena/kg | E57: Dosežena cena/kg | F57: Vrednost skupaj | G57: Odprodana količina | H57: Dosežena cena/kg | I57: Vrednost skupaj
C58: količina | E58: po ceni | G58: količina | H58: po ceni
A59: Propolis | F59: =C59*E59 -> 0 | I59: =H59*G59 -> 0
A60: Skupaj | F60: =SUM(F59) -> 0 | I60: =SUM(I59) -> 0 | J60: =I60+F60 -> 0
A63: ČEBELJE DRUŽINE za prodajo | B63: Število vzrejenih čebeljih družin za odprodajo | C63: Odprodano število | D63: Priporočena cena/sat | E63: Dosežena cena/sat zalege | F63: Vrednost skupaj
A64: ČEBELJE DRUŽINE za prodajo | F64: =E64*C64 -> 0
A65: Skupaj
A67: MATICE za prodajo | B67: Število vzrejenih matic | C67: odprodano | D67: Priporočena cena | E67: Dosežena cena | F67: Vrednost skupaj
A68: MATICE za prodajo | F68: =E68*C68 -> 0
A69: Skupaj | F69: =SUM(F68) -> 0
B72: Avtomatski prenos - ne vpisuj!
A73: PRIHODKI SKUPAJ | B73: Vrednost v EUR
A74: =A7 -> MED | B74: =J15 -> 0
A75: =A17 -> CVETNI PRAH - sušen | B75: =J24 -> 0
A76: =A26 -> CVETNI PRAH - svež | B76: =J33 -> 0
A77: =A35 -> CVETNI PRAH - izkopanec | B77: =J42 -> 0
A78: =A44 -> MATIČNI MLEČEK | B78: =J48 -> 0
A79: VOSEK | B79: =J54 -> 0
A80: =A56 -> PROPOLIS - surov | B80: =J60 -> 0
A81: =A63 -> ČEBELJE DRUŽINE za prodajo | B81: =F65 -> 0
A82: =A67 -> MATICE za prodajo | B82: =F69 -> 0
A83: PRIHODKI SKUPAJ | B83: =SUM(B74:B82) -> 0

Sheet Prihodki
B2: PRIHODKI SKUPAJ | C2: Vrednost v EUR
B3: MED | C3: ='Osnovni podatki čebelarstva'!B74 -> 0
B4: CVETNI PRAH - sušen | C4: ='Osnovni podatki čebelarstva'!B75 -> 0
B5: CVETNI PRAH - svež | C5: ='Osnovni podatki čebelarstva'!B76 -> 0
B6: CVETNI PRAH - izkopanec | C6: ='Osnovni podatki čebelarstva'!B77 -> 0
B7: MATIČNI MLEČEK | C7: ='Osnovni podatki čebelarstva'!B78 -> 0
B8: VOSEK | C8: ='Osnovni podatki čebelarstva'!B79 -> 0
B9: PROPOLIS - surov | C9: ='Osnovni podatki čebelarstva'!B80 -> 0
B10: ČEBELJE DRUŽINE za prodajo | C10: ='Osnovni podatki čebelarstva'!B81 -> 0
B11: MATICE za prodajo | C11: ='Osnovni podatki čebelarstva'!B82 -> 0
B12: PRIHODKI SKUPAJ | C12: =SUM(C3:C11) -> 0

Sheet Osnovna sredstva - AM
B1: Amortizacijska doba je določena minimalna - lahko je daljša in jo spremenite sami/krajša ne more biti | C1: % Amortizacije se izračuna sam - ne vnašajte v ta stolpec | D1: Orientacijska vrednost - lahko vnesete dejansko za vaše čebelarstvo | E1: Vnos količine za vaše čebelarstvo | F1: Izračun glede na količino in vrednost | G1: Strošek amortizacije se izračuna sam - ne vnašajte v ta stolpec
A2: ZEMLJIŠČA, PROSTORI IN OBJEKTI
B3: AMORTIZACIJSKA DOBA v letih | C3: Amortizacija v % | D3: ORIENTACIJSKA VREDNOST | E3: KOLIČINA | F3: NAKUPNA VREDNOST | G3: STROŠEK LETNE AMORTIZACIJE
A4: PROSTOR ZA TOČENJE | B4: 25 | C4: =100/B4 -> 4 | D4: 25000 | F4: =E4*D4 -> 0 | G4: =F4*C4/100 -> 0
A5: PROSTOR ZA SKLADIŠČENJE | B5: 25 | C5: =100/B5 -> 4 | D5: 25000 | F5: =E5*D5 -> 0 | G5: =F5*C5/100 -> 0
A6: PRODAJNI PROSTOR | B6: 25 | C6: =100/B6 -> 4 | D6: 30000 | F6: =E6*D6 -> 0 | G6: =F6*C6/100 -> 0
A7: OPREMA
A8: ČEBELNJAK (40 panjev) | B8: 15 | C8: =100/B8 -> 6.6666667 | D8: 10000 | F8: 0 | G8: =F8*C8/100 -> 0
A9: PANJ AŽ - 10 satni | B9: 10 | C9: =100/B9 -> 10 | D9: 150 | F9: 0 | G9: =F9*C9/100 -> 0
A10: PANJ AŽ - 3 etažni | B10: 10 | C10: =100/B10 -> 10 | D10: 200 | F10: =E10*D10 -> 0 | G10: =F10*C10/100 -> 0
A11: PANJ AŽ -5 satni | B11: 10 | C11: 10 | D11: 62 | F11: =E11*D11 -> 0 | G11: =F11*C11/100 -> 0
A12: PANJ AŽ -7 satni | B12: 10 | C12: =100/B12 -> 10 | D12: 71 | F12: =E12*D12 -> 0 | G12: =F12*C12/100 -> 0
A13: PANJ NAKLADNI LR 3 naklade | B13: 10 | C13: =100/B13 -> 10 | D13: 130 | F13: =E13*D13 -> 0 | G13: =F13*C13/100 -> 0
A14: PANJ NAKLADNI LR 2/3 4 naklade | B14: 10 | C14: =100/B14 -> 10 | D14: 150 | F14: =E14*D14 -> 0 | G14: =F14*C14/100 -> 0
A15: PLEMENILČEK | B15: 10 | C15: =100/B15 -> 10 | D15: 80 | F15: =E15*D15 -> 0 | G15: =F15*C15/100 -> 0
A16: TESTNE MREŽE ZA VAROO | B16: 5 | C16: =100/B16 -> 20 | D16: 1 | F16: =E16*D16 -> 0 | G16: =F16*C16/100 -> 0
A17: ZABOJNIK ZA PREVOZ ČEBEL AŽ 10s 8 panjev | B17: 15 | C17: =100/B17 -> 6.6666667 | D17: 872 | F17: =E17*D17 -> 0 | G17: =F17*C17/100 -> 0
A18: ZABOJNIK ZA PREVOZ ČEBEL AŽ 10s 10 panjev | B18: 15 | C18: =100/B18 -> 6.6666667 | D18: 960 | F18: =E18*D18 -> 0 | G18: =F18*C18/100 -> 0
A19: ZABOJNIK ZA PREVOZ ČEBEL AŽ 10s 18/12 panjev 3 etažni | B19: 15 | C19: =100/B19 -> 6.6666667 | D19: 1560 | F19: =E19*D19 -> 0 | G19: =F19*C19/100 -> 0
A20: ZABOJNIK ZA PREVOZ ČEBEL AŽ 10s 24/16 panjev 3 etažni | B20: 15 | C20: =100/B20 -> 6.6666667 | D20: 1800 | F20: =E20*D20 -> 0 | G20: =F20*C20/100 -> 0
A21: SREDSTVA ZA PREVOZ - PRIKOLICA | B21: 15 | C21: =100/B21 -> 6.6666667 | D21: 1200 | F21: =E21*D21 -> 0 | G21: =F21*C21/100 -> 0
A22: Računalniška in programska oprema ( npr. za vodenje sledljivosti) | B22: 2 | C22: =100/B22 -> 50 | D22: 1500 | F22: =E22*D22 -> 0 | G22: =F22*C22/100 -> 0
A23: Kontrolna tehtnica - SMS | B23: 5 | C23: =100/B23 -> 20 | D23: 350 | F23: =E23*D23 -> 0 | G23: =F23*C23/100 -> 0
A24: TOČILO na el. pogon - 4 satno samoobračalno | B24: 10 | C24: =100/B24 -> 10 | F24: =E24*D24 -> 0 | G24: =F24*C24/100 -> 0
A25: TOČILO na el. pogon - 6 satno samoobračalno | B25: 10 | C25: =100/B25 -> 10 | D25: 2900 | F25: =E25*D25 -> 0 | G25: =F25*C25/100 -> 0
A26: TOČILO na el. pogon - 8 satno samoobračalno | B26: 10 | C26: =100/B26 -> 10 | F26: =E26*D26 -> 0 | G26: =F26*C26/100 -> 0
A27: TOČILO na el. pogon - 12 satno samoobračalno | B27: 10 | C27: =100/B27 -> 10 | F27: =E27*D27 -> 0 | G27: =F27*C27/100 -> 0
A28: Toplotna komora (za gretje medu in sušenje cvetnega prahu) | B28: 10 | C28: =100/B28 -> 10 | D28: 540 | F28: =E28*D28 -> 0 | G28: =F28*C28/100 -> 0
A29: Potopni grelec za med | B29: 10 | C29: =100/B29 -> 10 | D29: 409 | F29: =E29*D29 -> 0 | G29: =F29*C29/100 -> 0
A30: Avtomatska točilna linija | B30: 10 | C30: =100/B30 -> 10 | F30: =E30*D30 -> 0 | G30: =F30*C30/100 -> 0
A31: avtomatska miza/linija za odkrivanje satja | B31: 10 | C31: =100/B31 -> 10 | F31: =E31*D31 -> 0 | G31: =F31*C31/100 -> 0
A32: polnilna naprava | B32: 10 | C32: =100/B32 -> 10 | D32: 2500 | F32: =E32*D32 -> 0 | G32: =F32*C32/100 -> 0
A33: posoda za odkrivanje satja namizna s pipo | B33: 15 | C33: =100/B33 -> 6.6666667 | D33: 120 | F33: =E33*D33 -> 0 | G33: =F33*C33/100 -> 0
A34: cedilo za med - dvodelno | B34: 5 | C34: =100/B34 -> 20 | D34: 35 | F34: =E34*D34 -> 0 | G34: =F34*C34/100 -> 0
A35: stroj za odkrivanje satja | B35: 10 | C35: =100/B35 -> 10 | F35: =E35*D35 -> 0 | G35: =F35*C35/100 -> 0
A36: črpalka za med | B36: 10 | C36: =100/B36 -> 10 | D36: 1800 | F36: =E36*D36 -> 0 | G36: =F36*C36/100 -> 0
A37: delovni pult s pomivalnimi koriti | B37: 10 | C37: =100/B37 -> 10 | D37: 3000 | F37: =E37*D37 -> 0 | G37: =F37*C37/100 -> 0
A38: omara za shranjevanje, police | B38: 15 | C38: =100/B38 -> 6.6666667 | D38: 4500 | F38: =E38*D38 -> 0 | G38: =F38*C38/100 -> 0
A39: mešalnik za kremni med | B39: 10 | C39: =100/B39 -> 10 | D39: 1625 | F39: =E39*D39 -> 0 | G39: =F39*C39/100 -> 0
A40: homogenizator | B40: 10 | C40: =100/B40 -> 10 | F40: =E40*D40 -> 0 | G40: =F40*C40/100 -> 0
A41: tehtnica za čebelje pridelke | B41: 5 | C41: =100/B41 -> 20 | D41: 80 | F41: =E41*D41 -> 0 | G41: =F41*C41/100 -> 0
A42: sublimator - oksalne kisline | B42: 10 | C42: =100/B42 -> 10 | D42: 200 | F42: =E42*D42 -> 0 | G42: =F42*C42/100 -> 0
F43: =E43*D43 -> 0 | G43: =F43*C43/100 -> 0
A44: pakirna naprava (npr. polnjenje v folije, za hotelske goste) | B44: 10 | C44: =100/B44 -> 10 | F44: =E44*D44 -> 0 | G44: =F44*C44/100 -> 0
F45: =E45*D45 -> 0 | G45: =F45*C45/100 -> 0
A46: zamrzovalna omara ali skrinja | B46: 10 | C46: =100/B46 -> 10 | D46: 600 | F46: =E46*D46 -> 0 | G46: =F46*C46/100 -> 0
A47: hladilna omara | B47: 10 | C47: =100/B47 -> 10 | D47: 600 | F47: =E47*D47 -> 0 | G47: =F47*C47/100 -> 0
F48: =E48*D48 -> 0 | G48: =F48*C48/100 -> 0
A49: posoda za skladiščenje medu 50 kg/inox | B49: 15 | C49: =100/B49 -> 6.6666667 | D49: 95 | F49: =E49*D49 -> 0 | G49: =F49*C49/100 -> 0
A50: posoda za skladiščenje medu 35 l/pvc sod s pokrovom | B50: 10 | C50: =100/B50 -> 10 | D50: 27 | F50: =E50*D50 -> 0 | G50: =F50*C50/100 -> 0
A51: posoda za skladiščenje medu | B51: 15 | C51: =100/B51 -> 6.6666667 | D51: 60 | F51: =E51*D51 -> 0 | G51: =F51*C51/100 -> 0
A52: posoda za skladiščenje medu | B52: 15 | C52: =100/B52 -> 6.6666667 | F52: =E52*D52 -> 0 | G52: =F52*C52/100 -> 0
A53: posoda za skladiščenje medu | B53: 15 | C53: =100/B53 -> 6.6666667 | F53: =E53*D53 -> 0 | G53: =F53*C53/100 -> 0
A54: posoda za skladiščenje medu | B54: 15 | C54: =100/B54 -> 6.6666667 | F54: =E54*D54 -> 0 | G54: =F54*C54/100 -> 0
F55: =E55*D55 -> 0 | G55: =F55*C55/100 -> 0
A56: SKUPAJ STROŠEK OPREME/LETO - PRIDOBIVANJE MEDU | G56: =SUM(G4:G55) -> 0
A57: VOSEK
A58: sončni topilnik | B58: 15 | C58: =100/B58 -> 6.6666667 | D58: 210 | F58: =E58*D58 -> 0 | G58: =F58*C58/100 -> 0
A59: kuhalnik voščin | B59: 15 | C59: =100/B59 -> 6.6666667 | D59: 300 | F59: =E59*D59 -> 0 | G59: =F59*C59/100 -> 0
A60: kalupi za izdelavo satnic | B60: 15 | C60: =100/B60 -> 6.6666667 | D60: 250 | F60: =E60*D60 -> 0 | G60: =F60*C60/100 -> 0
A61: oprema za sterilizacijo voska | B61: 15 | C61: =100/B61 -> 6.6666667 | D61: 770 | F61: =E61*D61 -> 0 | G61: =F61*C61/100 -> 0
A62: SKUPAJ STROŠEK OPREME/LETO - PRIDOBIVANJE VOSKA | G62: =SUM(G58:G61) -> 0
A64: CVETNI PRAH
A65: osmukalniki | B65: 10 | C65: =100/B65 -> 10 | D65: 20 | F65: =E65*D65 -> 0 | G65: =F65*C65/100 -> 0
A66: sušilniki cvetnega prahu | B66: 10 | C66: =100/B66 -> 10 | D66: 450 | F66: =E66*D66 -> 0 | G66: =F66*C66/100 -> 0
A67: čistilnik cvetnega prahu | B67: 10 | C67: =100/B67 -> 10 | D67: 680 | F67: =E67*D67 -> 0 | G67: =F67*C67/100 -> 0
A68: naprava za pridobivanje izkopanca | B68: 10 | C68: =100/B68 -> 10 | D68: 280 | F68: =E68*D68 -> 0 | G68: =F68*C68/100 -> 0
A72: SKUPAJ STROŠEK OPREME/LETO - PRIDOBIVANJE CVETNEGA PRAHU | G72: =SUM(G65:G71) -> 0
A73: PROPOLIS
B74: 10 | C74: =100/B74 -> 10 | F74: =E74*D74 -> 0 | G74: =F74*C74/100 -> 0
F75: =E75*D75 -> 0 | G75: =F75*C75/100 -> 0
F76: =E76*D76 -> 0 | G76: =F76*C76/100 -> 0
F77: =E77*D77 -> 0 | G77: =F77*C77/100 -> 0
A81: SKUPAJ STROŠEK OPREME/LETO - PRIDOBIVANJE PROPOLISA | G81: =SUM(G74:G80) -> 0
A82: MATIČNI MLEČEK
B83: 10 | C83: =100/B83 -> 10 | F83: =E83*D83 -> 0 | G83: =F83*C83/100 -> 0
F84: =E84*D84 -> 0 | G84: =F84*C84/100 -> 0
F85: =E85*D85 -> 0 | G85: =F85*C85/100 -> 0
F86: =E86*D86 -> 0 | G86: =F86*C86/100 -> 0
A90: SKUPAJ STROŠEK OPREME/LETO - PRIDOBIVANJE MATIČNEGA MLEČKA | G90: =SUM(G83:G89) -> 0
A91: ČEBELJI STRUP
B92: 10 | C92: =100/B92 -> 10 | F92: =E92*D92 -> 0 | G92: =F92*C92/100 -> 0
F93: =E93*D93 -> 0 | G93: =F93*C93/100 -> 0
F94: =E94*D94 -> 0 | G94: =F94*C94/100 -> 0
F95: =E95*D95 -> 0 | G95: =F95*C95/100 -> 0
A99: SKUPAJ STROŠEK OPREME/LETO - PRIDOBIVANJE ČEBELJEGA STRUPA | G99: =SUM(G92:G98) -> 0
A100: VZREJA MATIC
A101: inkubator | B101: 10 | C101: =100/B101 -> 10 | F101: =E101*D101 -> 0 | G101: =F101*C101/100 -> 0
A105: SKUPAJ STROŠEK OPREME/LETO - VZREJA MATIC | G105: =SUM(G101:G104) -> 0
A107: VZREJA ČEBELJIH DRUŽIN
B108: 10 | C108: =100/B108 -> 10 | F108: =E108*D108 -> 0 | G108: =F108*C108/100 -> 0
A112: SKUPAJ STROŠEK OPREME/LETO - VZREJA ČEBELJIH DRUŽIN | G112: =SUM(G108:G111) -> 0
A115: SKUPAJ STROŠEK OPREME/LETO | G115: =G112+G105+G99+G90+G81+G72+G62+G56 -> 0

Sheet Stroški vzdrževanja osn. sred.
A1: STROŠKI VZDRŽEVANJA | B1: količina | C1: cena | D1: STROŠEK/LETO
A2: VZDRŽEVANJE ČEBELJIH DRUŽIN (30% dokupa/LETO) | B2: ='Osnovni podatki čebelarstva'!B4 -> 0 | D2: =B2*C2 -> 0
A3: STROŠKI MENJAVE MATIC (na 2 leti) | B3: ='Osnovni podatki čebelarstva'!B4 -> 0 | D3: =B3*C3 -> 0
A4: Barva za čebelnjak
A5: Barva za panje
A6: popravilo čebelnjaka
A7: popravilo…
A8: popravilo….
A9: registracija prevoznega sredstva
A10: gume za prevozna sredstva
A12: PREDPOSTAVKA 3 eur/PANJ LETNEGA VZDRŽEVANJA | D12: =3*'Osnovni podatki čebelarstva'!B2 -> 0
A17: SKUPAJ | D17: =SUM(D2:D16) -> 0

Sheet Stroški orodja
A1: ORODJE ZA DELO V PANJU | B1: ORIENTACIJSKA CENA | C1: ŽIVLJENSKA DOBA V LETIH | D1: KOLIČINA | E1: STROŠEK/LETO
A2: omelo | B2: 3.9 | C2: 3 | E2: =D2*B2/C2 -> 0
A3: panjski nož | B3: 9.91 | C3: 15 | E3: =D3*B3/C3 -> 0
A4: grebljica | B4: 8.5 | C4: 15 | E4: =D4*B4/C4 -> 0
A5: kadilnik | B5: 13.8 | C5: 10 | E5: =D5*B5/C5 -> 0
A6: vilice za odkrivanje satja | B6: 10 | C6: 10 | E6: =D6*B6/C6 -> 0
A7: nož za odkrivanje satja | B7: 25 | C7: 10 | E7: =D7*B7/C7 -> 0
A8: zaščitna oprema - kombinzon | B8: 44 | C8: 5 | E8: =D8*B8/C8 -> 0
A9: zaščitni jopič | B9: 28 | C9: 5 | E9: =D9*B9/C9 -> 0
A10: zaščitni klobuk | B10: 14 | C10: 5 | E10: =D10*B10/C10 -> 0
A11: rokavice | B11: 10 | C11: 3 | E11: =D11*B11/C11 -> 0
A12: zaščitna maska | B12: 22.6 | C12: 3 | E12: =D12*B12/C12 -> 0
A13: zaščitna očala | B13: 15 | C13: 5 | E13: =D13*B13/C13 -> 0
A21: SKUPAJ | E21: =SUM(E2:E20) -> 0

Sheet Materialni stroški
A1: Število čebeljih družin: | B1: ='Osnovni podatki čebelarstva'!B3 -> 0 | C1: gospodarnih
B2: ='Osnovni podatki čebelarstva'!B4 -> 0 | C2: rezervnih
A4: MED/SKUPNI STROŠKI | B4: ORIENTACIJSKA CENA | C4: delež na čebeljo družino | D4: količina/leto | E4: vrednost
A5: SATNIKI | B5: 0.9 | C5: 0.3 | D5: =C5*$B$1 -> 0 | E5: =D5*B5 -> 0
A6: SATNICE (1 kg - cca. 11 satnic -cena na satnico) | B6: 1.35 | C6: 0.3 | D6: =C6*$B$1 -> 0 | E6: =D6*B6 -> 0
A7: SATNICE IZ EKOLOŠKE PRIDELAVE 48,8 za 20kom | B7: =48.8/20 -> 2.44 | C7: 0.3 | E7: =D7*B7 -> 0
A8: ŽICA ZA ŽIČENJE - inox 1kg /16,20 | B8: 16.2 | C8: 0.05 | D8: =C8*$B$1 -> 0 | E8: =D8*B8 -> 0
A9: RAZSTOJIŠČA | B9: 1.15 | C9: 0.3 | D9: =C9*$B$1 -> 0 | E9: =D9*B9 -> 0
A10: Filter za oksalno kislino, polmasko (2 kom 15 EUR) | B10: 7.5 | C10: 0.01 | D10: =C10*$B$1 -> 0 | E10: =D10*B10 -> 0
A11: DIMAK | B11: 10.7 | C11: 0.05 | D11: =C11*$B$1 -> 0 | E11: =D11*B11 -> 0
A12: SLADKOR 1 KG/12 kg/družino | B12: 0.39 | C12: 12 | D12: =C12*$B$1 -> 0 | E12: =D12*B12 -> 0
A13: SLADKOR 1 KG/8 kg/družino | B13: 0.45 | C13: 8 | D13: =C13*B2 -> 0 | E13: =D13*B13 -> 0
A14: POGAČA 1 KG Apifonda | B14: 3.8 | C14: 1 | D14: =B1*C14 -> 0 | E14: =D14*B14 -> 0
A15: SIRUP 14 KG | B15: 16.4 | C15: 1 | E15: =D15*B15 -> 0
E16: =D16*B16 -> 0
E17: =D17*B17 -> 0
E18: =D18*B18 -> 0
E19: =D19*B19 -> 0
E20: =D20*B20 -> 0
E21: =D21*B21 -> 0
E22: =D22*B22 -> 0
E23: =D23*B23 -> 0
E24: =D24*B24 -> 0
E25: =D25*B25 -> 0
E26: =D26*B26 -> 0
E27: =D27*B27 -> 0
A28: SKUPAJ | E28: =SUM(E5:E27) -> 0
A30: DIREKTNI MATERIALNI STROŠKI ZA PRIDOBIVANJE DRUGIH ČEBELJIH PRIDELKOV
A31: CVETNI PRAH | B31: ORIENTACIJSKA CENA | C31: delež na čebeljo družino | D31: količina/leto | E31: vrednost
E32: =D32*B32 -> 0
E33: =D33*B33 -> 0
E34: =D34*B34 -> 0
E35: =D35*B35 -> 0
E36: =D36*B36 -> 0
E37: =D37*B37 -> 0
E38: =D38*B38 -> 0
E39: =D39*B39 -> 0
E40: =D40*B40 -> 0
A41: SKUPAJ | E41: =SUM(E32:E40) -> 0
A43: PROPOLIS | B43: ORIENTACIJSKA CENA | C43: delež na čebeljo družino | D43: količina/leto | E43: vrednost
E44: =D44*B44 -> 0
E45: =D45*B45 -> 0
E46: =D46*B46 -> 0
E47: =D47*B47 -> 0
E48: =D48*B48 -> 0
E49: =D49*B49 -> 0
E50: =D50*B50 -> 0
E51: =D51*B51 -> 0
E52: =D52*B52 -> 0
A53: SKUPAJ | E53: =SUM(E44:E52) -> 0
A55: MATIČNI MLEČEK | B55: ORIENTACIJSKA CENA | C55: delež na čebeljo družino | D55: količina/leto | E55: vrednost
E56: =D56*B56 -> 0
E57: =D57*B57 -> 0
E58: =D58*B58 -> 0
E59: =D59*B59 -> 0
E60: =D60*B60 -> 0
E61: =D61*B61 -> 0
E62: =D62*B62 -> 0
E63: =D63*B63 -> 0
E64: =D64*B64 -> 0
A65: SKUPAJ | E65: =SUM(E56:E64) -> 0
A67: VZREJA ČEBELJIH DRUŽIN | B67: ORIENTACIJSKA CENA | C67: delež na čebeljo družino | D67: količina/leto | E67: vrednost
E68: =D68*B68 -> 0
E69: =D69*B69 -> 0
E70: =D70*B70 -> 0
E71: =D71*B71 -> 0
E72: =D72*B72 -> 0
E73: =D73*B73 -> 0
E74: =D74*B74 -> 0
E75: =D75*B75 -> 0
E76: =D76*B76 -> 0
A77: SKUPAJ | E77: =SUM(E68:E76) -> 0
A80: VZREJA MATIC | B80: ORIENTACIJSKA CENA | C80: delež na čebeljo družino | D80: količina/leto | E80: vrednost
E81: =D81*B81 -> 0
E82: =D82*B82 -> 0
E83: =D83*B83 -> 0
E84: =D84*B84 -> 0
E85: =D85*B85 -> 0
E86: =D86*B86 -> 0
E87: =D87*B87 -> 0
E88: =D88*B88 -> 0
E89: =D89*B89 -> 0
A90: SKUPAJ | E90: =SUM(E81:E89) -> 0

Sheet Stroški zdravil
A1: Število čebeljih družin: | B1: ='Osnovni podatki čebelarstva'!B3 -> 0 | C1: gospodarnih
B2: ='Osnovni podatki čebelarstva'!B4 -> 0 | C2: rezervnih
A3: SKUPAJ | B3: =SUM(B1:B2) -> 0
B4: Učinkovina | C4: ORIENTACIJSKA CENA | D4: število družin/pakiranje | E4: delež na čebeljo družino | F4: Število čebeljih družin | G4: vrednost
A5: Formivar 1l | B5: mravljična kislina/100 ml/panj | C5: 14.44 | D5: 10 | E5: =C5/D5 -> 1.444 | G5: =F5*E5 -> 0
A6: Thymovar 10 ploščic | B6: timol | C6: 20.33 | D6: 5 | E6: =C6/D6 -> 4.066 | G6: =F6*E6 -> 0
A7: Api LifeVar 2 ploščici | B7: timol+ | C7: 2.83 | D7: 0.5 | E7: =C7/D7 -> 5.66 | G7: =F7*E7 -> 0
A8: Varromed 555 ml /15-45 ml/panj | B8: disperzija mravljične+oksalne | C8: 32.37 | D8: 18 | E8: =C8/D8 -> 1.7983333 | G8: =F8*E8 -> 0
A9: Bayvarol - 4 dvojni trakovi/ panj | B9: flumetrin | C9: 5.65 | D9: 1 | E9: =C9/D9 -> 5.65 | G9: =F9*E9 -> 0
A10: Polyvar - 10 trakov | B10: flumetrin | C10: 29.36 | D10: 5 | E10: =C10/D10 -> 5.872 | G10: =F10*E10 -> 0
A11: CheckMite | B11: kumafos | C11: 29.36 | D11: 5 | E11: =C11/D11 -> 5.872 | G11: =F11*E11 -> 0
A12: Varidol | B12: amitraz + 50 trakov | C12: 11.62 | D12: 15 | E12: =C12/D12 -> 0.77466667 | G12: =F12*E12 -> 0
A13: Oxuvar 1000g (1150 ml) | B13: oksalna kislina (5-6 ml/sat) | C13: 38.77 | D13: =1150/60 -> 19.166667 | E13: =C13/D13 -> 2.0227826 | G13: =F13*E13 -> 0
A14: Api Bioxal 350 g (5000 ml) | B14: oksalna kislina (do 5 ml/sat) | C14: 74.35 | D14: =5000/50 -> 100 | E14: =C14/D14 -> 0.7435 | G14: =F14*E14 -> 0
A15: SKUPAJ | G15: =SUM(G5:G14) -> 0

Sheet Strošek embalaže
C1: Količina posamezne embalaže za med | D1: Velikost embalaže | E1: Količina embaliranega medu skupaj v posamezno embalažo v g
A2: Količina pridelanega medu | B2: ='Osnovni podatki čebelarstva'!B15 -> 0 | D2: 900 g | E2: =C2*0.9 -> 0
B3: =B2-E2 -> 0 | D3: 450 g | E3: =C3*0.45 -> 0
B4: =B3-E3 -> 0 | D4: 250 g | E4: =C4*0.25 -> 0
B5: =B4-E4 -> 0 | D5: 110 g | E5: =C5*0.11 -> 0
A6: Skupaj | B6: =B5-E5 -> 0 | C6: =SUM(C2:C5) -> 0
A8: EMBALAŽA | B8: ORIENTACIJSKA CENA | C8: količina/leto | D8: vrednost
A9: kozarec za med 720 ml/900 g | B9: 0.3014 | D9: =C9*B9 -> 0
A10: Kozarci 370 SLO med /450 g | B10: 0.2697 | D10: =C10*B10 -> 0
A11: Kozarci 212 SLO med /250 g | B11: 0.4026 | D11: =C11*B11 -> 0
A12: Kozarci 110 SLO med/ 130 g | B12: 0.3196 | D12: =C12*B12 -> 0
A13: Steklenica medeni liker 350 ml SLO | B13: 0.85 | D13: =C13*B13 -> 0
A14: Pokrovček skupaj | B14: 0.11 | D14: =C14*B14 -> 0
A15: Nalepka | B15: 0.028 | D15: =C15*B15 -> 0
A16: Prelepka | B16: 0.028 | D16: =C16*B16 -> 0
D17: =C17*B17 -> 0
A18: Darilna embalaža - karton | B18: 1 | D18: =C18*B18 -> 0
A19: Darilna embalaža - karton | B19: 1 | D19: =C19*B19 -> 0
A20: Darilna embalaža - karton | B20: 1 | D20: =C20*B20 -> 0
A21: Darilna embalaža - karton | B21: 1 | D21: =C21*B21 -> 0
A22: Darilna embalaža - karton | B22: 1 | D22: =C22*B22 -> 0
A23: Darilna embalaža - vrečke | B23: 0.3 | D23: =C23*B23 -> 0
A24: Darilna embalaža - vrečke | B24: 1 | D24: =C24*B24 -> 0
A25: Darilna embalaža - vrečke | B25: 1 | D25: =C25*B25 -> 0
A26: Darilna embalaža - vrečke | B26: 1 | D26: =C26*B26 -> 0
A27: Darilna embalaža - vrečke | B27: 1 | D27: =C27*B27 -> 0
A29: SKUPAJ | D29: =SUM(D9:D28) -> 0

Sheet Zavarovanje
A1: STROŠKI ZAVAROVANJA | B1: STROŠEK/LETO
A2: požarna varnost
A3: nezgodno zavarovanje
A4: mreža za zaščito pred medvedi
A7: PREDPOSTAVKA 1 eur/PANJ ZAVAROVANJE
A12: SKUPAJ | B12: =SUM(B2:B11) -> 0

Sheet Potni stroški
A1: Zap.št. | B1: Datum | C1: Relacija | E1: Razdalja v km | F1: STROŠEK
C2: Kraj odhoda | D2: Kraj prihoda | F2: 0,37 EUR/KM
A3: 1 | F3: =E3*0.37 -> 0
A4: 2 | F4: =E4*0.37 -> 0
A5: 3 | F5: =E5*0.37 -> 0
A6: 4 | F6: =E6*0.37 -> 0
F7: =E7*0.37 -> 0
A35: Skupaj strošek kilometrina | F35: =SUM(F3:F34) -> 0

Sheet Strošek dela

Sheet  Stroški skupaj in lastna cena
A1: NE VPISUJ - VSE SE PRENESE IN IZRAČUNA GLEDE NA VNOSE! | C1: V TEM STOLPCU VNESI % SKUPNIH STROŠKOV, KI GA ŽELIŠ, DA SE UPOŠTEVA ZA POSAMEZNI PRIDELEK/MATICO/ČEB.DRUŽINO
A2: Število čebeljih družin skupaj | B2: ='Osnovni podatki čebelarstva'!B2 -> 0
A3: Število gospodarnih čebeljih družin (70%) | B3: ='Osnovni podatki čebelarstva'!B3 -> 0 | C3: gospodarnih
A4: Število rezervnih družin (30%) | B4: ='Osnovni podatki čebelarstva'!B4 -> 0 | C4: rezervnih
A6: Strošek osnovnih sredstev - SKUPNI | B6: ='Osnovna sredstva - AM'!G56 -> 0
A7: Stroški orodja | B7: ='Stroški orodja'!E21 -> 0
A8: Materialni stroški | B8: ='Materialni stroški'!E28 -> 0
A9: Stroški zdravil | B9: ='Stroški zdravil'!G15 -> 0
A10: Strošek embalaže | B10: ='Strošek embalaže'!D29 -> 0
A11: Stroški vzdrževanja opreme, osnovnih sredstev | B11: ='Stroški vzdrževanja osn. sred.'!D17 -> 0
A12: Stroški premoženjskega zavarovanja | B12: =Zavarovanje!B12 -> 0
A13: Stroški dela (NPR. 0,5 zaposlene osebe/150 družin) | B13: 0
A14: Potni stroški/stroški prevoza | B14: ='Potni stroški'!F35 -> 0
A16: STROŠKI SKUPAJ | B16: =SUM(B6:B15) -> 0 | C16: VNESI % skupnih str. | D16: NE VNAŠAJ - TI PODATKI SE IZRAČUNAJO SAMI | F16: Vnesi pridelano količino pridelka
C17: % skupnih stroškov | D17: Višina skupnega str. | E17: Skupaj vsi stroški | F17: Pridelava v kg | G17: Lastna cena v EUR/kg
A18: STROŠEK/ČEBELJO DRUŽINO | B18: =B16/B2 -> #DIV/0! | C18: 0.27 | D18: =C18*B16 -> 0 | E18: =D18 -> 0 | G18: =E18/F18 -> #DIV/0!
A19: LASTNA CENA MEDU -ČE SO VSI STROŠKI VEZANI NA PRIDELAVO MEDU | B19: =B18/18 -> #DIV/0!
A22: DIREKTNI STROŠKI ZA PRIDOBIVANJE DRUGIH ČEBELJIH PRIDELKOV: | C22: % skupnih stroškov | D22: Višina skupnega str. | E22: Skupaj vsi stroški | F22: Pridelava v kg | G22: Lastna cena v EUR/kg
A23: VOSEK | B23: ='Osnovna sredstva - AM'!G62 -> 0 | C23: 0.05 | D23: =B16*C23 -> 0 | E23: =B23+D23 -> 0 | G23: =E23/F23 -> #DIV/0!
A24: CVETNEGA PRAHU | B24: ='Osnovna sredstva - AM'!G72+'Materialni stroški'!E41 -> 0 | C24: 0.1 | D24: =B16*C24 -> 0 | E24: =B24+D24 -> 0 | G24: =E24/F24 -> #DIV/0!
A25: PROPOLISA | B25: ='Osnovna sredstva - AM'!G81+'Materialni stroški'!E53 -> 0 | C25: 0.1 | D25: =B16*C25 -> 0 | E25: =B25+D25 -> 0 | G25: =E25/F25 -> #DIV/0!
A26: MATIČNEGA MLEČKA | B26: ='Osnovna sredstva - AM'!G90+'Materialni stroški'!E65 -> 0 | C26: 0.095 | D26: =B16*C26 -> 0 | E26: =B26+D26 -> 0 | G26: =E26/F26 -> #DIV/0!
A27: ČEBELJI STRUP | B27: ='Osnovna sredstva - AM'!G99 -> 0 | C27: 0.005 | D27: =B16*C27 -> 0 | E27: =B27+D27 -> 0 | G27: =E27/F27 -> #DIV/0!
A29: DIREKTNI STROŠKI VZREJE | C29: % skupnih stroškov | D29: Višina skupnega str. | E29: Skupaj vsi stroški | F29: št. vzrejenih matic/ČD | G29: Lastna cena v EUR/kg
A30: ČEBELJIH MATIC | B30: ='Osnovna sredstva - AM'!G105+'Materialni stroški'!E90 -> 0 | C30: 0.08 | D30: =C30*B16 -> 0 | E30: =B30+D30 -> 0 | G30: =E30/F30 -> #DIV/0!
A31: ČEBELJIH DRUŽIN | B31: ='Osnovna sredstva - AM'!G112+'Materialni stroški'!E77 -> 0 | C31: 0.3 | D31: =C31*B16 -> 0 | E31: =B31+D31 -> 0 | G31: =E31/F31 -> #DIV/0!
A32: STROŠKI SKUPAJ ZA VSE PRIDELKE | B32: =B16+B23+B24+B25+B26+B27+B30+B31 -> 0 | C32: =SUM(C18:C31) -> 1 | D32: =SUM(D18:D31) -> 0 | E32: =SUM(E18:E31) -> 0
A34: LASTNA CENA ČEBELJEGA PRIDELKA SE LAHKO IZRAČUNA PO KLJUČU (npr. vsi prihodki 100%, prihodki od medu 50%, propolis 20%,… vzameš tolikšen % skupnih stroškov)

Sheet Skupaj dohodek zaslužek
A1: Vse se izračuna - ne vpisuj!
A3: SKUPAJ PRIHODKI | B3: =Prihodki!C12 -> 0
A4: SKUPAJ STROŠKI | B4: =' Stroški skupaj in lastna cena'!B32 -> 0
A6: DOHODEK ČEBELARSTVA | B6: =B3-B4 -> 0
