BEGIN:VCALENDAR
VERSION:2.0
PRODID:-//Čebelarska zveza Slovenije - ECPv6.15.17//NONSGML v1.0//EN
CALSCALE:GREGORIAN
METHOD:PUBLISH
X-WR-CALNAME:Čebelarska zveza Slovenije
X-ORIGINAL-URL:https://czs.si
X-WR-CALDESC:Dogodki za Čebelarska zveza Slovenije
REFRESH-INTERVAL;VALUE=DURATION:PT1H
X-Robots-Tag:noindex
X-PUBLISHED-TTL:PT1H
BEGIN:VTIMEZONE
TZID:Europe/Ljubljana
BEGIN:DAYLIGHT
TZOFFSETFROM:+0100
TZOFFSETTO:+0200
TZNAME:CEST
DTSTART:20250330T010000
END:DAYLIGHT
BEGIN:STANDARD
TZOFFSETFROM:+0200
TZOFFSETTO:+0100
TZNAME:CET
DTSTART:20251026T010000
END:STANDARD
BEGIN:DAYLIGHT
TZOFFSETFROM:+0100
TZOFFSETTO:+0200
TZNAME:CEST
DTSTART:20260329T010000
END:DAYLIGHT
BEGIN:STANDARD
TZOFFSETFROM:+0200
TZOFFSETTO:+0100
TZNAME:CET
DTSTART:20261025T010000
END:STANDARD
BEGIN:DAYLIGHT
TZOFFSETFROM:+0100
TZOFFSETTO:+0200
TZNAME:CEST
DTSTART:20270328T010000
END:DAYLIGHT
BEGIN:STANDARD
TZOFFSETFROM:+0200
TZOFFSETTO:+0100
TZNAME:CET
DTSTART:20271031T010000
END:STANDARD
END:VTIMEZONE
BEGIN:VEVENT
DTSTART;VALUE=DATE:20260523
DTEND;VALUE=DATE:20260524
DTSTAMP:20260423T164258
CREATED:20260113T114537Z
LAST-MODIFIED:20260113T114722Z
UID:7200-1779494400-1779580799@czs.si
SUMMARY:Slovenski čebelarski praznik
DESCRIPTION:ČZ Krško
URL:https://czs.si/dogodek/slovenski-cebelarski-praznik/
ATTACH;FMTTYPE=image/png:https://czs.si/wp-content/uploads/2025/07/logo_czs_300x300.png
END:VEVENT
END:VCALENDAR