BEGIN:VCALENDAR
VERSION:2.0
PRODID:-//Čebelarska zveza Slovenije - ECPv6.15.17//NONSGML v1.0//EN
CALSCALE:GREGORIAN
METHOD:PUBLISH
X-WR-CALNAME:Čebelarska zveza Slovenije
X-ORIGINAL-URL:https://czs.si
X-WR-CALDESC:Dogodki za Čebelarska zveza Slovenije
REFRESH-INTERVAL;VALUE=DURATION:PT1H
X-Robots-Tag:noindex
X-PUBLISHED-TTL:PT1H
BEGIN:VTIMEZONE
TZID:Europe/Ljubljana
BEGIN:DAYLIGHT
TZOFFSETFROM:+0100
TZOFFSETTO:+0200
TZNAME:CEST
DTSTART:20250330T010000
END:DAYLIGHT
BEGIN:STANDARD
TZOFFSETFROM:+0200
TZOFFSETTO:+0100
TZNAME:CET
DTSTART:20251026T010000
END:STANDARD
BEGIN:DAYLIGHT
TZOFFSETFROM:+0100
TZOFFSETTO:+0200
TZNAME:CEST
DTSTART:20260329T010000
END:DAYLIGHT
BEGIN:STANDARD
TZOFFSETFROM:+0200
TZOFFSETTO:+0100
TZNAME:CET
DTSTART:20261025T010000
END:STANDARD
BEGIN:DAYLIGHT
TZOFFSETFROM:+0100
TZOFFSETTO:+0200
TZNAME:CEST
DTSTART:20270328T010000
END:DAYLIGHT
BEGIN:STANDARD
TZOFFSETFROM:+0200
TZOFFSETTO:+0100
TZNAME:CET
DTSTART:20271031T010000
END:STANDARD
END:VTIMEZONE
BEGIN:VEVENT
DTSTART;VALUE=DATE:20260424
DTEND;VALUE=DATE:20260425
DTSTAMP:20260423T165808
CREATED:20260112T135615Z
LAST-MODIFIED:20260112T135615Z
UID:7178-1776988800-1777075199@czs.si
SUMMARY:Dan odprtih vrat slovenskih čebelarjev
DESCRIPTION:
URL:https://czs.si/dogodek/dan-odprtih-vrat-slovenskih-cebelarjev/
ATTACH;FMTTYPE=image/png:https://czs.si/wp-content/uploads/2025/07/logo_czs.png
END:VEVENT
END:VCALENDAR